BEGIN:VCALENDAR
VERSION:2.0
PRODID:-//wp-events-plugin.com//7.2.3.1//EN
TZID:Asia/Tokyo
X-WR-TIMEZONE:Asia/Tokyo
BEGIN:VEVENT
UID:21@hiroringi.or.jp
DTSTART;TZID=Asia/Tokyo:20260426T133000
DTEND;TZID=Asia/Tokyo:20260426T173000
DTSTAMP:20260413T065325Z
URL:https://hiroringi.or.jp/events/%e5%b0%bf%e6%a4%9c%e6%9f%bb%e3%83%95%e3
 %82%a9%e3%83%bc%e3%83%a9%e3%83%a0-2026-%e5%b0%bf%e6%a4%9c%e6%9f%bb%e3%81%a
 e%e8%80%81%e8%88%97%e5%8b%89%e5%bc%b7%e4%bc%9a-%e6%96%b0%e4%ba%ba%e3%81%8b
 %e3%82%89/
SUMMARY:尿検査フォーラム 2026 尿検査の老舗勉強会 新人か
 ら熟練までが”見逃せない”フォーラム
DESCRIPTION:尿検査フォーラム 2026\n尿検査の老舗勉強会　
 新人から熟練までが”見逃せない”フォーラム\n\n【日
 時】2025年4月26日（日）　13：30-17：30 (開場13：00～)　ラ
 イブ配信\n【申し込み】事前登録はこちらから\n【開催
 】事前登録者へメールにて通知\n【主催】シーメンスヘ
 ルスケア・ダイアグノスティクス株式会社　オンライ
 ンセミナー\n\n【プログラム】\n13:30 ～ 13:55　Siemens Health
 ineersインフォーメーション\n\n13:55 ～ 14:00　総合司会　
 ご挨拶\n順天堂大学 医療科学部 臨床検査学科 学科長　
 宿谷 賢一 先生\n\n14:00 ～ 15:15　第一部\n座長：順天堂大
 学医学部附属順天堂医院 臨床検査部 技師長　脇田 満 
 先生\n       「尿検査における検査前プロセスの注意
 点」\n\n演者：慶應義塾大学病院 臨床検査技術室 課長
 補佐　石澤 毅士 先生\n       「尿定性の基礎を学ぶ
 」\n演者：広島赤十字・原爆病院 検査部 生化学・免疫
 血清検査課 課長  山下 美香 先生\n      「尿沈査検査
 　その1　尿沈査検査の入門編」\n演者：筑波大学附属
 病院 検査部　横山 千恵 先生\n      「尿沈査検査　そ
 の2　尿沈査検査の学習編」\n演者：順天堂大学 医療科
 学部 臨床検査学科  学科長　宿谷 賢一 先生\n      「
 尿化学検査の基礎と注意すべきポイント」\n演者：愛媛
 大学医学部附属病院 検査部　金並 真吾 先生\n\n15:15 ～ 
 15:30　Coffee Break\n\n15:30 ～ 16:45　第二部\n座長：西日本旅
 客鉄道株式会社 大阪鉄道病院 臨床検査室　堀田 真希 
 先生\n         「異型細胞を見逃さない・拾いすぎな
 いためのポイントと実践的アプローチ」\n\n演者：新潟
 医療福祉大学 医療技術学部 臨床技術学科 教授　横山 
 貴 先生\n        「丸い細胞の鑑別」\n演者：順天堂大
 学 医療科学部 臨床検査学科 学科長　宿谷 賢一 先生\n
        「ポドサイト」\n演者：筑波大学附属病院 検査
 部　横山 千恵 先生\n      「ウイルス感染細胞か、異
 型細胞か？　見極める鑑別ポイント」\n演者：九州大学
 病院 検査部 副技師長　川満 紀子 先生\n      「尿沈
 渣検査における精度管理の実践」\n演者：慶応義塾大学
 病院 臨床検査技術室 課長補佐　石澤 毅士 先生\n\n16:45 
 ～ 17:15　第三部　統合討議\n順天堂大学 医療科学部 臨
 床検査学科 学科長　　　　　宿谷 賢一 先生\n順天堂大
 学医学部附属順天堂医院 臨床検査部 技師長　脇田 満 
 先生\n西日本旅客鉄道株式会社 大阪鉄道病院 臨床検査
 室　　堀田 真希 先生\n\n17:15～ 17:20　閉会のご挨拶\n順
 天堂大学 医療科学部 臨床検査学科 学科長　宿谷 賢一 
 先生"\n\n【問い合わせ先】\nLS営業本部　中国・四国ゾ
 ーン　宮本　京\ntakashi.miyamoto@siemens-healthineers.com\n電話
 ：0120-543-455 or 03-3493-9557
CATEGORIES:賛助会員主催
END:VEVENT
BEGIN:VTIMEZONE
TZID:Asia/Tokyo
X-LIC-LOCATION:Asia/Tokyo
BEGIN:STANDARD
DTSTART:20250426T133000
TZOFFSETFROM:+0900
TZOFFSETTO:+0900
TZNAME:JST
END:STANDARD
END:VTIMEZONE
END:VCALENDAR