BEGIN:VCALENDAR
VERSION:2.0
PRODID:-//wp-events-plugin.com//7.2.3.1//EN
TZID:Asia/Tokyo
X-WR-TIMEZONE:Asia/Tokyo
BEGIN:VEVENT
UID:8@hiroringi.or.jp
DTSTART;TZID=Asia/Tokyo:20260621T120000
DTEND;TZID=Asia/Tokyo:20260621T170000
DTSTAMP:20260410T121051Z
URL:https://hiroringi.or.jp/events/%e3%80%8c2026%e5%b9%b4%e5%ba%a6%e5%ba%8
 3%e5%b3%b6%e7%9c%8c%e8%bc%b8%e8%a1%80%e6%a4%9c%e6%9f%bb%e5%ae%9f%e6%8a%80%
 e7%a0%94%e4%bf%ae%e4%bc%9a%ef%bd%9e%e5%9f%ba%e7%a4%8e%e3%82%92%e7%bf%92%e5
 %be%97/
SUMMARY:「2026年度広島県輸血検査実技研修会～基礎を習得
 しよう！～」
DESCRIPTION:【部門名】輸血細胞治療部門\n\n【テーマ】「20
 26年度広島県輸血検査実技研修会～基礎を習得しよう！
 ～」\n\n【日時】2026年6月21日(日)　12：00～17：00(受付11
 ：00～)\n\n【会場】広島大学　医学部　形態系実習室\n\n
 【内容】\n\n募集人数：14名程度\n\n参加費　：5000円（参
 加費納入方法は別途ご連絡いたします）\n\n※参加希望
 人数が多い場合は先着順ではありませんが、お断りす
 ることがあります。\n\n受講の可否につきましては、後
 日お知らせ致します。\n\n①凝集の目合わせ\n\n②血液型
 検査\n\n③不規則抗体検査\n\n抗体同定検査は机上問題\n\
 n④交差適合試験\n\n【生涯教育点数】\n\n専門20点\n\n【
 参加希望申込み方法】下記の申し込みフォームからお
 願いします。\n\nログインして申し込みすると、自動で
 会員番号、氏名、メールアドレスは登録されます。\n\n
 ※参加希望人数が多い場合は先着順ではありませんが
 、お断りすることがあります。\n\n受講の可否につきま
 しては、後日お知らせ致します。\n\nまた準備の都合上
 、受講決定後のキャンセルはご遠慮ください。\n\n【申
 込み〆切】2026年5月22日(金)\n\n【問い合わせ先】村田　
 竜也　厚生連広島総合病院　kovemiyamoto@yahoo.co.jp\n\n【主
 催】一般社団法人広島県臨床検査技師会
CATEGORIES:輸血細胞治療
END:VEVENT
BEGIN:VTIMEZONE
TZID:Asia/Tokyo
X-LIC-LOCATION:Asia/Tokyo
BEGIN:STANDARD
DTSTART:20250621T120000
TZOFFSETFROM:+0900
TZOFFSETTO:+0900
TZNAME:JST
END:STANDARD
END:VTIMEZONE
END:VCALENDAR